BEGIN:VCALENDAR
VERSION:2.0
PRODID:-//https://calenda-formation.labocleo.org
X-WR-CALNAME:Calenda
X-WR-TIMEZONE:Europe/Paris
CALSCALE:GREGORIAN
X-WR-CALDESC:Le calendrier des lettres et sciences humaines et sociales
METHOD:PUBLISH
BEGIN:VEVENT
DTSTART;VALUE=DATE:20180619
DTEND;VALUE=DATE:20180620
UID:443677-20180619@calenda.revues.org
SUMMARY:Histoire des (in)égalités ethno-raciales au Mexique\, Amérique Centrale et Caraïbes (XVIIIe-XXIe siècle)
URL:https://calenda-formation.labocleo.org/443677
DESCRIPTION:Ce qui nous intéresse ici\, c’est d’analyser de ce que nous pouvons strictement appeler « inégalités ethno-raciales »\, et de mener une discussion comparative non seulement en termes chronologiques mais aussi spatiaux. Autrement dit\, évaluer les inégal… @plus_info https://calenda-formation.labocleo.org/443677
LOCATION:Bordeaux
END:VEVENT
BEGIN:VEVENT
DTSTART;VALUE=DATE:20180620
DTEND;VALUE=DATE:20180621
UID:443677-20180620@calenda.revues.org
SUMMARY:Histoire des (in)égalités ethno-raciales au Mexique\, Amérique Centrale et Caraïbes (XVIIIe-XXIe siècle)
URL:https://calenda-formation.labocleo.org/443677
DESCRIPTION:Ce qui nous intéresse ici\, c’est d’analyser de ce que nous pouvons strictement appeler « inégalités ethno-raciales »\, et de mener une discussion comparative non seulement en termes chronologiques mais aussi spatiaux. Autrement dit\, évaluer les inégal… @plus_info https://calenda-formation.labocleo.org/443677
LOCATION:Bordeaux
END:VEVENT
END:VCALENDAR
