BEGIN:VCALENDAR
VERSION:2.0
PRODID:-//https://calenda-formation.labocleo.org
X-WR-CALNAME:Calenda
X-WR-TIMEZONE:Europe/Paris
CALSCALE:GREGORIAN
X-WR-CALDESC:Le calendrier des lettres et sciences humaines et sociales
METHOD:PUBLISH
BEGIN:VEVENT
DTSTART;VALUE=DATE:20180620
DTEND;VALUE=DATE:20180621
UID:443927-20180620@calenda.revues.org
SUMMARY:Le musée du Louvre et les écrivains entre deux siècles (1874-1926)
URL:https://calenda-formation.labocleo.org/443927
DESCRIPTION:Dans le cadre du partenariat entre Sorbonne Université et le musée du Louvre\, une journée d’étude est organisée sur la réception du Louvre chez les écrivains français du tournant des XIXe-XXe siècles. La journée sera l’occasion de faire dialoguer des… @plus_info https://calenda-formation.labocleo.org/443927
LOCATION:Paris
END:VEVENT
END:VCALENDAR
