BEGIN:VCALENDAR
VERSION:2.0
PRODID:-//https://calenda-formation.labocleo.org
X-WR-CALNAME:Calenda
X-WR-TIMEZONE:Europe/Paris
CALSCALE:GREGORIAN
X-WR-CALDESC:The calendar for arts, humanities and social sciences
METHOD:PUBLISH
BEGIN:VEVENT
DTSTART;VALUE=DATE:20180612
DTEND;VALUE=DATE:20180613
UID:443954-20180612@calenda.revues.org
SUMMARY:The analysis of illustrations in historical manuscripts and printed books 
URL:https://calenda-formation.labocleo.org/443954
DESCRIPTION:L’objectif de cet atelier est de donner un aperçu des méthodes d’analyses iconographique et stylistique employées par les historiens de l'art à travers quelques études de cas du Moyen Âge et du début de l’époque moderne. Cet atelier a aussi pour voca… @plus_info https://calenda-formation.labocleo.org/443954
LOCATION:Paris
END:VEVENT
END:VCALENDAR
