BEGIN:VCALENDAR
VERSION:2.0
PRODID:-//https://calenda-formation.labocleo.org
X-WR-CALNAME:Calenda
X-WR-TIMEZONE:Europe/Paris
CALSCALE:GREGORIAN
X-WR-CALDESC:Le calendrier des lettres et sciences humaines et sociales
METHOD:PUBLISH
BEGIN:VEVENT
DTSTART;VALUE=DATE:20180630
DTEND;VALUE=DATE:20180701
UID:444091-20180630@calenda.revues.org
SUMMARY:Humanismes\, anti-humanismes et littérature (XIV-XXIe siècle)
URL:https://calenda-formation.labocleo.org/444091
DESCRIPTION:Si l’adjectif « humaniste » est attesté dès la fin du XVIe siècle\, le mot « humanisme » est une invention des Lumières\, que s’approprie d’abord la philosophie politique du milieu du XIXe siècle (Proudhon)\, avant qu’il devienne une catégorie de l’hist… @plus_info https://calenda-formation.labocleo.org/444091
LOCATION:Aix-en-Provence
END:VEVENT
END:VCALENDAR
