BEGIN:VCALENDAR
VERSION:2.0
PRODID:-//https://calenda-formation.labocleo.org
X-WR-CALNAME:Calenda
X-WR-TIMEZONE:Europe/Paris
CALSCALE:GREGORIAN
X-WR-CALDESC:Le calendrier des lettres et sciences humaines et sociales
METHOD:PUBLISH
BEGIN:VEVENT
DTSTART;VALUE=DATE:20180621
DTEND;VALUE=DATE:20180622
UID:444195-20180621@calenda.revues.org
SUMMARY:Medicalisation of death and dying: systems\, practices and politics
URL:https://calenda-formation.labocleo.org/444195
DESCRIPTION:In this workshop\, we will address the medicalisation of the end of life through a social sciences lens. We are interested both in zooming in on the social and moral dynamics taking place at the bedside\, and taking a broader view of institutional and … Weitere Informationen https://calenda-formation.labocleo.org/444195
LOCATION:Brüssel
END:VEVENT
END:VCALENDAR
