BEGIN:VCALENDAR
VERSION:2.0
PRODID:-//https://calenda-formation.labocleo.org
X-WR-CALNAME:Calenda
X-WR-TIMEZONE:Europe/Paris
CALSCALE:GREGORIAN
X-WR-CALDESC:Le calendrier des lettres et sciences humaines et sociales
METHOD:PUBLISH
BEGIN:VEVENT
DTSTART;VALUE=DATE:20180605
DTEND;VALUE=DATE:20180606
UID:444537-20180605@calenda.revues.org
SUMMARY:Rationalités techniques et subjectivation
URL:https://calenda-formation.labocleo.org/444537
DESCRIPTION:Lors de cette journée d’étude\, nous nous pencherons sur l’évolution de nos environnements technologiques et des modes de rationalité qui sont à l’œuvre dans l’organisation de nos existences à l’ère hypermoderne\, cela aussi bien à l’échelle de la soci… Más informaciones https://calenda-formation.labocleo.org/444537
LOCATION:París
END:VEVENT
END:VCALENDAR
