BEGIN:VCALENDAR
VERSION:2.0
PRODID:-//https://calenda-formation.labocleo.org
X-WR-CALNAME:Calenda
X-WR-TIMEZONE:Europe/Paris
CALSCALE:GREGORIAN
X-WR-CALDESC:The calendar for arts, humanities and social sciences
METHOD:PUBLISH
BEGIN:VEVENT
DTSTART;VALUE=DATE:20180730
DTEND;VALUE=DATE:20180731
UID:444719-20180730@calenda.revues.org
SUMMARY:The language of advertising
URL:https://calenda-formation.labocleo.org/444719
DESCRIPTION:Cette journée d'étude a pour but d'analyser la relation entre les différents types de langages et la publicité. Les propositions de communication qui traiteront de tout ce qui participe du mécanisme de la publicité (les objectifs\, la dimension sociol… @plus_info https://calenda-formation.labocleo.org/444719
LOCATION:Schœlcher
END:VEVENT
END:VCALENDAR
