BEGIN:VCALENDAR
VERSION:2.0
PRODID:-//https://calenda-formation.labocleo.org
X-WR-CALNAME:Calenda
X-WR-TIMEZONE:Europe/Paris
CALSCALE:GREGORIAN
X-WR-CALDESC:The calendar for arts, humanities and social sciences
METHOD:PUBLISH
BEGIN:VEVENT
DTSTART;VALUE=DATE:20180608
DTEND;VALUE=DATE:20180609
UID:444746-20180608@calenda.revues.org
SUMMARY:Transitions toward Open Science - tensions of Openness
URL:https://calenda-formation.labocleo.org/444746
DESCRIPTION:L’Open Science est devenue le maître mot pour véhiculer les modalités ouvertes et collaboratives de la science\, tant dans son élaboration\, diffusion ou évaluation. Prolongement du déploiement à grande échelle du libre accès à l’information scientifiq… @plus_info https://calenda-formation.labocleo.org/444746
LOCATION:Lyon
END:VEVENT
END:VCALENDAR
