BEGIN:VCALENDAR
VERSION:2.0
PRODID:-//https://calenda-formation.labocleo.org
X-WR-CALNAME:Calenda
X-WR-TIMEZONE:Europe/Paris
CALSCALE:GREGORIAN
X-WR-CALDESC:The calendar for arts, humanities and social sciences
METHOD:PUBLISH
BEGIN:VEVENT
DTSTART;VALUE=DATE:20180611
DTEND;VALUE=DATE:20180612
UID:444852-20180611@calenda.revues.org
SUMMARY:What is a Christian man? Masculinities and commitments (19th-20th centuries)
URL:https://calenda-formation.labocleo.org/444852
DESCRIPTION:Dans le cadre de l'axe « Genre et Europe » du Laboratoire d'excellence « Écrire une histoire nouvelle de l'Europe (EHNE) »\, un atelier européen se tiendra à Paris les 11 et 12 juin 2018 autour de la question du lien entre masculinités et religion\, et… @plus_info https://calenda-formation.labocleo.org/444852
LOCATION:Paris
END:VEVENT
BEGIN:VEVENT
DTSTART;VALUE=DATE:20180612
DTEND;VALUE=DATE:20180613
UID:444852-20180612@calenda.revues.org
SUMMARY:What is a Christian man? Masculinities and commitments (19th-20th centuries)
URL:https://calenda-formation.labocleo.org/444852
DESCRIPTION:Dans le cadre de l'axe « Genre et Europe » du Laboratoire d'excellence « Écrire une histoire nouvelle de l'Europe (EHNE) »\, un atelier européen se tiendra à Paris les 11 et 12 juin 2018 autour de la question du lien entre masculinités et religion\, et… @plus_info https://calenda-formation.labocleo.org/444852
LOCATION:Paris
END:VEVENT
END:VCALENDAR
