BEGIN:VCALENDAR
VERSION:2.0
PRODID:-//https://calenda-formation.labocleo.org
X-WR-CALNAME:Calenda
X-WR-TIMEZONE:Europe/Paris
CALSCALE:GREGORIAN
X-WR-CALDESC:The calendar for arts, humanities and social sciences
METHOD:PUBLISH
BEGIN:VEVENT
DTSTART;VALUE=DATE:20180901
DTEND;VALUE=DATE:20180902
UID:445447-20180901@calenda.revues.org
SUMMARY:Epigenetics as an interdiscipline: between the social sciences and the life sciences
URL:https://calenda-formation.labocleo.org/445447
DESCRIPTION:Following the spectacular rise of epigenetic research since the early 2000s\, an increasing number of social science researchers call for it to form an “interdiscipline” at the crossroads of life science and social science. Central to their claim is t… @plus_info https://calenda-formation.labocleo.org/445447
LOCATION:
END:VEVENT
END:VCALENDAR
