BEGIN:VCALENDAR
VERSION:2.0
PRODID:-//https://calenda-formation.labocleo.org
X-WR-CALNAME:Calenda
X-WR-TIMEZONE:Europe/Paris
CALSCALE:GREGORIAN
X-WR-CALDESC:The calendar for arts, humanities and social sciences
METHOD:PUBLISH
BEGIN:VEVENT
DTSTART;VALUE=DATE:20180915
DTEND;VALUE=DATE:20180916
UID:447609-20180915@calenda.revues.org
SUMMARY:European architectural space: exchanges\, circulations and cultural transfers
URL:https://calenda-formation.labocleo.org/447609
DESCRIPTION:In Europe\, the circulation skills and ideas\, already very intensive throughout the Middle Ages\, kept intensifying over centuries. This process identified as “cultural transfers” at the end of the 20th century actively supports the progressive rise of… @plus_info https://calenda-formation.labocleo.org/447609
LOCATION:Paris
END:VEVENT
END:VCALENDAR
