BEGIN:VCALENDAR
VERSION:2.0
PRODID:-//https://calenda-formation.labocleo.org
X-WR-CALNAME:Calenda
X-WR-TIMEZONE:Europe/Paris
CALSCALE:GREGORIAN
X-WR-CALDESC:O calendário de letras e de ciências sociais e humanas
METHOD:PUBLISH
BEGIN:VEVENT
DTSTART;VALUE=DATE:20180713
DTEND;VALUE=DATE:20180714
UID:449883-20180713@calenda.revues.org
SUMMARY:Vivre en ville ! Les problématiques urbaines à travers l’histoire dans le Midi de la France 
URL:https://calenda-formation.labocleo.org/449883
DESCRIPTION:Le 26 octobre 2018 est organisée la XIIe journée d’histoire et d’histoire du droit de l’université de Perpignan portant sur un thème d’actualité pour les juristes et certains historiens : le « Vivre en ville » ! En effet\, le retour d’une partie des f… @plus_info https://calenda-formation.labocleo.org/449883
LOCATION:Perpinhã
END:VEVENT
END:VCALENDAR
