BEGIN:VCALENDAR
VERSION:2.0
PRODID:-//https://calenda-formation.labocleo.org
X-WR-CALNAME:Calenda
X-WR-TIMEZONE:Europe/Paris
CALSCALE:GREGORIAN
X-WR-CALDESC:Le calendrier des lettres et sciences humaines et sociales
METHOD:PUBLISH
BEGIN:VEVENT
DTSTART;VALUE=DATE:20180815
DTEND;VALUE=DATE:20180816
UID:453623-20180815@calenda.revues.org
SUMMARY:L'amour
URL:https://calenda-formation.labocleo.org/453623
DESCRIPTION:Dans le cadre du programme de préparation aux concours d’entrée dans les grandes écoles\, le lycée Henri Bergson d’Angers\, organise une journée d’étude universitaire sur les œuvres au programme. … Más informaciones https://calenda-formation.labocleo.org/453623
LOCATION:Angers
END:VEVENT
END:VCALENDAR
