BEGIN:VCALENDAR
VERSION:2.0
PRODID:-//https://calenda-formation.labocleo.org
X-WR-CALNAME:Calenda
X-WR-TIMEZONE:Europe/Paris
CALSCALE:GREGORIAN
X-WR-CALDESC:Le calendrier des lettres et sciences humaines et sociales
METHOD:PUBLISH
BEGIN:VEVENT
DTSTART;VALUE=DATE:20191001
DTEND;VALUE=DATE:20191002
UID:453847-20191001@calenda.revues.org
SUMMARY:Représentations animales dans les mondes imaginaires : vers un effacement des frontières spécistes ?
URL:https://calenda-formation.labocleo.org/453847
DESCRIPTION:On connaît le développement critique des animal studies depuis une dizaine d’années\, tandis que la question animale s’impose toujours davantage aux consciences et dans les représentations. Au cœur de l’actualité de la recherche nationale et internati… @plus_info https://calenda-formation.labocleo.org/453847
LOCATION:
END:VEVENT
END:VCALENDAR
