BEGIN:VCALENDAR
VERSION:2.0
PRODID:-//https://calenda-formation.labocleo.org
X-WR-CALNAME:Calenda
X-WR-TIMEZONE:Europe/Paris
CALSCALE:GREGORIAN
X-WR-CALDESC:Le calendrier des lettres et sciences humaines et sociales
METHOD:PUBLISH
BEGIN:VEVENT
DTSTART;VALUE=DATE:20180917
DTEND;VALUE=DATE:20180918
UID:453866-20180917@calenda.revues.org
SUMMARY:Prix du meilleur mémoire de master 2 recherche – Caisse nationale des allocations familiales (Cnaf)
URL:https://calenda-formation.labocleo.org/453866
DESCRIPTION:La Caisse nationale des allocations familiales (Cnaf) lance un appel à candidatures pour des prix afin d'aider des étudiants en thèse ou en master recherche 2 à réaliser des travaux de recherches de qualité et innovants. Les projets de thèse et les m… Weitere Informationen https://calenda-formation.labocleo.org/453866
LOCATION:Paris
END:VEVENT
END:VCALENDAR
