BEGIN:VCALENDAR
VERSION:2.0
PRODID:-//https://calenda-formation.labocleo.org
X-WR-CALNAME:Calenda
X-WR-TIMEZONE:Europe/Paris
CALSCALE:GREGORIAN
X-WR-CALDESC:Le calendrier des lettres et sciences humaines et sociales
METHOD:PUBLISH
BEGIN:VEVENT
DTSTART;VALUE=DATE:20180919
DTEND;VALUE=DATE:20180920
UID:457640-20180919@calenda.revues.org
SUMMARY:Refonder l’Europe ? Le mythe du supranational. Pour une intégration politique horizontale 
URL:https://calenda-formation.labocleo.org/457640
DESCRIPTION:La chaire Jean Monnet « Télos\, Éthos\, Nomos de l’Europe »(TEN-Europa 2017-2020) vise à renforcer l’enseignement des études européennes au sein du nouvel Institut d’études européennes et globales\, porté par l’université de Nantes depuis 2015\, et à acc… Weitere Informationen https://calenda-formation.labocleo.org/457640
LOCATION:Nantes
END:VEVENT
BEGIN:VEVENT
DTSTART;VALUE=DATE:20181017
DTEND;VALUE=DATE:20181018
UID:457640-20181017@calenda.revues.org
SUMMARY:Refonder l’Europe ? Le mythe du supranational. Pour une intégration politique horizontale 
URL:https://calenda-formation.labocleo.org/457640
DESCRIPTION:La chaire Jean Monnet « Télos\, Éthos\, Nomos de l’Europe »(TEN-Europa 2017-2020) vise à renforcer l’enseignement des études européennes au sein du nouvel Institut d’études européennes et globales\, porté par l’université de Nantes depuis 2015\, et à acc… Weitere Informationen https://calenda-formation.labocleo.org/457640
LOCATION:Nantes
END:VEVENT
BEGIN:VEVENT
DTSTART;VALUE=DATE:20181129
DTEND;VALUE=DATE:20181130
UID:457640-20181129@calenda.revues.org
SUMMARY:Refonder l’Europe ? Le mythe du supranational. Pour une intégration politique horizontale 
URL:https://calenda-formation.labocleo.org/457640
DESCRIPTION:La chaire Jean Monnet « Télos\, Éthos\, Nomos de l’Europe »(TEN-Europa 2017-2020) vise à renforcer l’enseignement des études européennes au sein du nouvel Institut d’études européennes et globales\, porté par l’université de Nantes depuis 2015\, et à acc… Weitere Informationen https://calenda-formation.labocleo.org/457640
LOCATION:Nantes
END:VEVENT
BEGIN:VEVENT
DTSTART;VALUE=DATE:20190124
DTEND;VALUE=DATE:20190125
UID:457640-20190124@calenda.revues.org
SUMMARY:Refonder l’Europe ? Le mythe du supranational. Pour une intégration politique horizontale 
URL:https://calenda-formation.labocleo.org/457640
DESCRIPTION:La chaire Jean Monnet « Télos\, Éthos\, Nomos de l’Europe »(TEN-Europa 2017-2020) vise à renforcer l’enseignement des études européennes au sein du nouvel Institut d’études européennes et globales\, porté par l’université de Nantes depuis 2015\, et à acc… Weitere Informationen https://calenda-formation.labocleo.org/457640
LOCATION:Nantes
END:VEVENT
BEGIN:VEVENT
DTSTART;VALUE=DATE:20190221
DTEND;VALUE=DATE:20190222
UID:457640-20190221@calenda.revues.org
SUMMARY:Refonder l’Europe ? Le mythe du supranational. Pour une intégration politique horizontale 
URL:https://calenda-formation.labocleo.org/457640
DESCRIPTION:La chaire Jean Monnet « Télos\, Éthos\, Nomos de l’Europe »(TEN-Europa 2017-2020) vise à renforcer l’enseignement des études européennes au sein du nouvel Institut d’études européennes et globales\, porté par l’université de Nantes depuis 2015\, et à acc… Weitere Informationen https://calenda-formation.labocleo.org/457640
LOCATION:Nantes
END:VEVENT
BEGIN:VEVENT
DTSTART;VALUE=DATE:20190321
DTEND;VALUE=DATE:20190322
UID:457640-20190321@calenda.revues.org
SUMMARY:Refonder l’Europe ? Le mythe du supranational. Pour une intégration politique horizontale 
URL:https://calenda-formation.labocleo.org/457640
DESCRIPTION:La chaire Jean Monnet « Télos\, Éthos\, Nomos de l’Europe »(TEN-Europa 2017-2020) vise à renforcer l’enseignement des études européennes au sein du nouvel Institut d’études européennes et globales\, porté par l’université de Nantes depuis 2015\, et à acc… Weitere Informationen https://calenda-formation.labocleo.org/457640
LOCATION:Nantes
END:VEVENT
BEGIN:VEVENT
DTSTART;VALUE=DATE:20190418
DTEND;VALUE=DATE:20190419
UID:457640-20190418@calenda.revues.org
SUMMARY:Refonder l’Europe ? Le mythe du supranational. Pour une intégration politique horizontale 
URL:https://calenda-formation.labocleo.org/457640
DESCRIPTION:La chaire Jean Monnet « Télos\, Éthos\, Nomos de l’Europe »(TEN-Europa 2017-2020) vise à renforcer l’enseignement des études européennes au sein du nouvel Institut d’études européennes et globales\, porté par l’université de Nantes depuis 2015\, et à acc… Weitere Informationen https://calenda-formation.labocleo.org/457640
LOCATION:Nantes
END:VEVENT
BEGIN:VEVENT
DTSTART;VALUE=DATE:20190517
DTEND;VALUE=DATE:20190518
UID:457640-20190517@calenda.revues.org
SUMMARY:Refonder l’Europe ? Le mythe du supranational. Pour une intégration politique horizontale 
URL:https://calenda-formation.labocleo.org/457640
DESCRIPTION:La chaire Jean Monnet « Télos\, Éthos\, Nomos de l’Europe »(TEN-Europa 2017-2020) vise à renforcer l’enseignement des études européennes au sein du nouvel Institut d’études européennes et globales\, porté par l’université de Nantes depuis 2015\, et à acc… Weitere Informationen https://calenda-formation.labocleo.org/457640
LOCATION:Nantes
END:VEVENT
END:VCALENDAR
