BEGIN:VCALENDAR
VERSION:2.0
PRODID:-//https://calenda-formation.labocleo.org
X-WR-CALNAME:Calenda
X-WR-TIMEZONE:Europe/Paris
CALSCALE:GREGORIAN
X-WR-CALDESC:The calendar for arts, humanities and social sciences
METHOD:PUBLISH
BEGIN:VEVENT
DTSTART;VALUE=DATE:20181006
DTEND;VALUE=DATE:20181007
UID:461041-20181006@calenda.revues.org
SUMMARY:"Ubi caritas": care establishments in the Middle Ages
URL:https://calenda-formation.labocleo.org/461041
DESCRIPTION:Dans l’Antiquité chrétienne\, la caritas\, c’est-à-dire l’amour du prochain\, fait passer la sollicitude envers les faibles et les malades de la sphère privée au domaine public. Le cadre institutionnel de ce qui deviendra l’hôpital est défini dans le co… @plus_info https://calenda-formation.labocleo.org/461041
LOCATION:Paray-le-Monial
END:VEVENT
BEGIN:VEVENT
DTSTART;VALUE=DATE:20181007
DTEND;VALUE=DATE:20181008
UID:461041-20181007@calenda.revues.org
SUMMARY:"Ubi caritas": care establishments in the Middle Ages
URL:https://calenda-formation.labocleo.org/461041
DESCRIPTION:Dans l’Antiquité chrétienne\, la caritas\, c’est-à-dire l’amour du prochain\, fait passer la sollicitude envers les faibles et les malades de la sphère privée au domaine public. Le cadre institutionnel de ce qui deviendra l’hôpital est défini dans le co… @plus_info https://calenda-formation.labocleo.org/461041
LOCATION:Paray-le-Monial
END:VEVENT
END:VCALENDAR
