BEGIN:VCALENDAR
VERSION:2.0
PRODID:-//https://calenda-formation.labocleo.org
X-WR-CALNAME:Calenda
X-WR-TIMEZONE:Europe/Paris
CALSCALE:GREGORIAN
X-WR-CALDESC:Le calendrier des lettres et sciences humaines et sociales
METHOD:PUBLISH
BEGIN:VEVENT
DTSTART;VALUE=DATE:20180911
DTEND;VALUE=DATE:20180912
UID:461549-20180911@calenda.revues.org
SUMMARY:Literacies as culture\, practices\, or competences
URL:https://calenda-formation.labocleo.org/461549
DESCRIPTION:RedMIL 2018 is a doctoral summer school which aims at contributing to the convergence between digital\, media and information literacy research by bringing together researchers from all three communities\, to foster the scientific debate and explore co… @plus_info https://calenda-formation.labocleo.org/461549
LOCATION:Louvain-la-Neuve
END:VEVENT
BEGIN:VEVENT
DTSTART;VALUE=DATE:20180912
DTEND;VALUE=DATE:20180913
UID:461549-20180912@calenda.revues.org
SUMMARY:Literacies as culture\, practices\, or competences
URL:https://calenda-formation.labocleo.org/461549
DESCRIPTION:RedMIL 2018 is a doctoral summer school which aims at contributing to the convergence between digital\, media and information literacy research by bringing together researchers from all three communities\, to foster the scientific debate and explore co… @plus_info https://calenda-formation.labocleo.org/461549
LOCATION:Louvain-la-Neuve
END:VEVENT
BEGIN:VEVENT
DTSTART;VALUE=DATE:20180913
DTEND;VALUE=DATE:20180914
UID:461549-20180913@calenda.revues.org
SUMMARY:Literacies as culture\, practices\, or competences
URL:https://calenda-formation.labocleo.org/461549
DESCRIPTION:RedMIL 2018 is a doctoral summer school which aims at contributing to the convergence between digital\, media and information literacy research by bringing together researchers from all three communities\, to foster the scientific debate and explore co… @plus_info https://calenda-formation.labocleo.org/461549
LOCATION:Louvain-la-Neuve
END:VEVENT
BEGIN:VEVENT
DTSTART;VALUE=DATE:20180914
DTEND;VALUE=DATE:20180915
UID:461549-20180914@calenda.revues.org
SUMMARY:Literacies as culture\, practices\, or competences
URL:https://calenda-formation.labocleo.org/461549
DESCRIPTION:RedMIL 2018 is a doctoral summer school which aims at contributing to the convergence between digital\, media and information literacy research by bringing together researchers from all three communities\, to foster the scientific debate and explore co… @plus_info https://calenda-formation.labocleo.org/461549
LOCATION:Louvain-la-Neuve
END:VEVENT
END:VCALENDAR
