BEGIN:VCALENDAR
VERSION:2.0
PRODID:-//https://calenda-formation.labocleo.org
X-WR-CALNAME:Calenda
X-WR-TIMEZONE:Europe/Paris
CALSCALE:GREGORIAN
X-WR-CALDESC:The calendar for arts, humanities and social sciences
METHOD:PUBLISH
BEGIN:VEVENT
DTSTART;VALUE=DATE:20180930
DTEND;VALUE=DATE:20181001
UID:462200-20180930@calenda.revues.org
SUMMARY:What are workshops? What is workshopping?
URL:https://calenda-formation.labocleo.org/462200
DESCRIPTION:L'initiative de cette double journée d'étude est formulée depuis l'Atelier de recherches transdisciplinaires esthétique et sociétés (ARTES) de l'université Bordeaux Montaigne. Outre la consonance latine qui marque la conscience d'un héritage\, le prem… @plus_info https://calenda-formation.labocleo.org/462200
LOCATION:Pessac
END:VEVENT
END:VCALENDAR
