BEGIN:VCALENDAR
VERSION:2.0
PRODID:-//https://calenda-formation.labocleo.org
X-WR-CALNAME:Calenda
X-WR-TIMEZONE:Europe/Paris
CALSCALE:GREGORIAN
X-WR-CALDESC:Le calendrier des lettres et sciences humaines et sociales
METHOD:PUBLISH
BEGIN:VEVENT
DTSTART;VALUE=DATE:20180930
DTEND;VALUE=DATE:20181001
UID:462200-20180930@calenda.revues.org
SUMMARY:Les « workshop(s) »
URL:https://calenda-formation.labocleo.org/462200
DESCRIPTION:L'initiative de cette double journée d'étude est formulée depuis l'Atelier de recherches transdisciplinaires esthétique et sociétés (ARTES) de l'université Bordeaux Montaigne. Outre la consonance latine qui marque la conscience d'un héritage\, le prem… Más informaciones https://calenda-formation.labocleo.org/462200
LOCATION:Pessac
END:VEVENT
END:VCALENDAR
