BEGIN:VCALENDAR
VERSION:2.0
PRODID:-//https://calenda-formation.labocleo.org
X-WR-CALNAME:Calenda
X-WR-TIMEZONE:Europe/Paris
CALSCALE:GREGORIAN
X-WR-CALDESC:Le calendrier des lettres et sciences humaines et sociales
METHOD:PUBLISH
BEGIN:VEVENT
DTSTART;VALUE=DATE:20190430
DTEND;VALUE=DATE:20190501
UID:465840-20190430@calenda.revues.org
SUMMARY:Religiosités\, sexualités et identités LGBTQI
URL:https://calenda-formation.labocleo.org/465840
DESCRIPTION:Ce numéro thématique de la revue Religiologiques permettra aux auteurs\, à partir d’approches interdisciplinaires\, de mettre en lumière les diverses manières dont de nouvelles religiosités\, certaines plus individuelles et d’autres plus holistiques\, s’… Weitere Informationen https://calenda-formation.labocleo.org/465840
LOCATION:
END:VEVENT
END:VCALENDAR
