BEGIN:VCALENDAR
VERSION:2.0
PRODID:-//https://calenda-formation.labocleo.org
X-WR-CALNAME:Calenda
X-WR-TIMEZONE:Europe/Paris
CALSCALE:GREGORIAN
X-WR-CALDESC:Le calendrier des lettres et sciences humaines et sociales
METHOD:PUBLISH
BEGIN:VEVENT
DTSTART;VALUE=DATE:20181001
DTEND;VALUE=DATE:20181002
UID:466087-20181001@calenda.revues.org
SUMMARY:Youtubeurs : invention d’une énonciation subjective ?
URL:https://calenda-formation.labocleo.org/466087
DESCRIPTION:La revue Études Digitales prépare un numéro consacré aux youtubeurs et youtubeuses dans leurs modalités d'expression. Ce dossier propose de constituer le premier ensemble interdisciplinaire de travaux en langue française sur les youtubeurs et les you… @plus_info https://calenda-formation.labocleo.org/466087
LOCATION:
END:VEVENT
END:VCALENDAR
