BEGIN:VCALENDAR
VERSION:2.0
PRODID:-//https://calenda-formation.labocleo.org
X-WR-CALNAME:Calenda
X-WR-TIMEZONE:Europe/Paris
CALSCALE:GREGORIAN
X-WR-CALDESC:Le calendrier des lettres et sciences humaines et sociales
METHOD:PUBLISH
BEGIN:VEVENT
DTSTART;VALUE=DATE:20180924
DTEND;VALUE=DATE:20180925
UID:466891-20180924@calenda.revues.org
SUMMARY:Multiples
URL:https://calenda-formation.labocleo.org/466891
DESCRIPTION:À travers la notion de multiples\, le prochain numéro thématique de Perspective : actualité en histoire de l’art (2019 – 2) traitera de la question de la reproductibilité technique. Si la formulation renvoie immanquablement à Walter Benjamin et son cé… Más informaciones https://calenda-formation.labocleo.org/466891
LOCATION:París
END:VEVENT
END:VCALENDAR
