BEGIN:VCALENDAR
VERSION:2.0
PRODID:-//https://calenda-formation.labocleo.org
X-WR-CALNAME:Calenda
X-WR-TIMEZONE:Europe/Paris
CALSCALE:GREGORIAN
X-WR-CALDESC:Le calendrier des lettres et sciences humaines et sociales
METHOD:PUBLISH
BEGIN:VEVENT
DTSTART;VALUE=DATE:20180914
DTEND;VALUE=DATE:20180915
UID:470775-20180914@calenda.revues.org
SUMMARY:Categories\, Boundaries\, Horizons
URL:https://calenda-formation.labocleo.org/470775
DESCRIPTION:Categories and boundaries help us to define our fields of knowledge and subjects of inquiry\, but can also contain and limit our perspectives. The concept of category emerges etymologically from the experience of speaking in an assembly\, a dialogic fo… Más informaciones https://calenda-formation.labocleo.org/470775
LOCATION:Sídney
END:VEVENT
END:VCALENDAR
