BEGIN:VCALENDAR
VERSION:2.0
PRODID:-//https://calenda-formation.labocleo.org
X-WR-CALNAME:Calenda
X-WR-TIMEZONE:Europe/Paris
CALSCALE:GREGORIAN
X-WR-CALDESC:O calendário de letras e de ciências sociais e humanas
METHOD:PUBLISH
BEGIN:VEVENT
DTSTART;VALUE=DATE:20180921
DTEND;VALUE=DATE:20180922
UID:471027-20180921@calenda.revues.org
SUMMARY:30 anos de construção da cena brasileira moderna (1948-1978)
URL:https://calenda-formation.labocleo.org/471027
DESCRIPTION:Gostaríamos de destacar neste número estudos sobre os processos artísticos que se empenharam na construção de uma moderna cena no Brasil com interesse na pesquisa de formas novas de representação da sociedade brasileira. Ainda que a recorte temporal … @plus_info https://calenda-formation.labocleo.org/471027
LOCATION:Sampa
END:VEVENT
END:VCALENDAR
