BEGIN:VCALENDAR
VERSION:2.0
PRODID:-//https://calenda-formation.labocleo.org
X-WR-CALNAME:Calenda
X-WR-TIMEZONE:Europe/Paris
CALSCALE:GREGORIAN
X-WR-CALDESC:The calendar for arts, humanities and social sciences
METHOD:PUBLISH
BEGIN:VEVENT
DTSTART;VALUE=DATE:20180915
DTEND;VALUE=DATE:20180916
UID:472859-20180915@calenda.revues.org
SUMMARY:The history of performance art in education\, past and present
URL:https://calenda-formation.labocleo.org/472859
DESCRIPTION:Du Moyen Âge aux abords de la Révolution française\, à l’emplacement de l’actuel ministère de l’Enseignement supérieur\, le collège de Navarre fit composer et jouer à ses élèves une riche production théâtrale latine et française. Ce patrimoine exceptio… @plus_info https://calenda-formation.labocleo.org/472859
LOCATION:Paris
END:VEVENT
END:VCALENDAR
