BEGIN:VCALENDAR
VERSION:2.0
PRODID:-//https://calenda-formation.labocleo.org
X-WR-CALNAME:Calenda
X-WR-TIMEZONE:Europe/Paris
CALSCALE:GREGORIAN
X-WR-CALDESC:O calendário de letras e de ciências sociais e humanas
METHOD:PUBLISH
BEGIN:VEVENT
DTSTART;VALUE=DATE:20180928
DTEND;VALUE=DATE:20180929
UID:474080-20180928@calenda.revues.org
SUMMARY:La lex extractiva : nouvelles perspectives ?
URL:https://calenda-formation.labocleo.org/474080
DESCRIPTION:Le droit appréhendait traditionnellement les activités extractives sous le prisme d’un contrat d’État entre un investisseur étranger et un État hôte\, dont la résolution des litiges était confiée aux arbitres est bousculé de toutes parts. Ce n'est plu… @plus_info https://calenda-formation.labocleo.org/474080
LOCATION:Paris
END:VEVENT
END:VCALENDAR
