BEGIN:VCALENDAR
VERSION:2.0
PRODID:-//https://calenda-formation.labocleo.org
X-WR-CALNAME:Calenda
X-WR-TIMEZONE:Europe/Paris
CALSCALE:GREGORIAN
X-WR-CALDESC:The calendar for arts, humanities and social sciences
METHOD:PUBLISH
BEGIN:VEVENT
DTSTART;VALUE=DATE:20190115
DTEND;VALUE=DATE:20190116
UID:474429-20190115@calenda.revues.org
SUMMARY:Social entrepreneurship: what model of development for Africa?
URL:https://calenda-formation.labocleo.org/474429
DESCRIPTION:The purpose of this fourth issue of the journal African Management Review is\, therefore\, to broaden the discussions on social enterprises and social entrepreneurship in Africa. Empirical studies from all African countries are welcome for this special… @plus_info https://calenda-formation.labocleo.org/474429
LOCATION:Agadir
END:VEVENT
END:VCALENDAR
