BEGIN:VCALENDAR
VERSION:2.0
PRODID:-//https://calenda-formation.labocleo.org
X-WR-CALNAME:Calenda
X-WR-TIMEZONE:Europe/Paris
CALSCALE:GREGORIAN
X-WR-CALDESC:The calendar for arts, humanities and social sciences
METHOD:PUBLISH
BEGIN:VEVENT
DTSTART;VALUE=DATE:20181012
DTEND;VALUE=DATE:20181013
UID:474717-20181012@calenda.revues.org
SUMMARY:Between past and present - the history of the body\, shedding light on law\, ethics and morality in medicine?
URL:https://calenda-formation.labocleo.org/474717
DESCRIPTION:L'histoire du corps peut mettre le temps long des sociétés au service des réflexions contemporaines sur les relations entre malades\, remèdes et médecins. Grâce aux échanges entre historiens\, praticiens\, juristes\, responsables d'association et acteurs… @plus_info https://calenda-formation.labocleo.org/474717
LOCATION:Paris
END:VEVENT
END:VCALENDAR
