BEGIN:VCALENDAR
VERSION:2.0
PRODID:-//https://calenda-formation.labocleo.org
X-WR-CALNAME:Calenda
X-WR-TIMEZONE:Europe/Paris
CALSCALE:GREGORIAN
X-WR-CALDESC:Le calendrier des lettres et sciences humaines et sociales
METHOD:PUBLISH
BEGIN:VEVENT
DTSTART;VALUE=DATE:20180928
DTEND;VALUE=DATE:20180929
UID:477269-20180928@calenda.revues.org
SUMMARY:Quelles finances locales pour demain ? 
URL:https://calenda-formation.labocleo.org/477269
DESCRIPTION:L’Université de Nantes (Laboratoire Droit et changement social) et la Chambre régionale des comptes Pays de la Loire organisent (en association avec la SFFP) le vendredi 28 septembre 2018 un colloque conjoint sur l’avenir des finances publiques local… Más informaciones https://calenda-formation.labocleo.org/477269
LOCATION:Nantes
END:VEVENT
END:VCALENDAR
