BEGIN:VCALENDAR
VERSION:2.0
PRODID:-//https://calenda-formation.labocleo.org
X-WR-CALNAME:Calenda
X-WR-TIMEZONE:Europe/Paris
CALSCALE:GREGORIAN
X-WR-CALDESC:Le calendrier des lettres et sciences humaines et sociales
METHOD:PUBLISH
BEGIN:VEVENT
DTSTART;VALUE=DATE:20181012
DTEND;VALUE=DATE:20181013
UID:477467-20181012@calenda.revues.org
SUMMARY:Le juge face au secret
URL:https://calenda-formation.labocleo.org/477467
DESCRIPTION:Organisé par les doctorants du CRDP (Droits et Perspectives du droit\, EA n° 4487) de l’université de Lille\, un colloque jeunes chercheurs se tiendra le vendredi 12 octobre 2018 sur le thème du juge face au secret dans les locaux de la faculté des sci… Weitere Informationen https://calenda-formation.labocleo.org/477467
LOCATION:
END:VEVENT
END:VCALENDAR
