BEGIN:VCALENDAR
VERSION:2.0
PRODID:-//https://calenda-formation.labocleo.org
X-WR-CALNAME:Calenda
X-WR-TIMEZONE:Europe/Paris
CALSCALE:GREGORIAN
X-WR-CALDESC:Le calendrier des lettres et sciences humaines et sociales
METHOD:PUBLISH
BEGIN:VEVENT
DTSTART;VALUE=DATE:20180925
DTEND;VALUE=DATE:20180926
UID:477539-20180925@calenda.revues.org
SUMMARY:Carrières académiques féminines en Afrique 
URL:https://calenda-formation.labocleo.org/477539
DESCRIPTION:Quelle est la place des femmes aujourd’hui dans les universités africaines ? Quelles opportunités et solutions existent pour imaginer\, planifier et promouvoir les carrières académiques féminines en Afrique et à l’international ? Comment faciliter la … Weitere Informationen https://calenda-formation.labocleo.org/477539
LOCATION:Dakar
END:VEVENT
END:VCALENDAR
