BEGIN:VCALENDAR
VERSION:2.0
PRODID:-//https://calenda-formation.labocleo.org
X-WR-CALNAME:Calenda
X-WR-TIMEZONE:Europe/Paris
CALSCALE:GREGORIAN
X-WR-CALDESC:Le calendrier des lettres et sciences humaines et sociales
METHOD:PUBLISH
BEGIN:VEVENT
DTSTART;VALUE=DATE:20190222
DTEND;VALUE=DATE:20190223
UID:477835-20190222@calenda.revues.org
SUMMARY:Corridors de développement
URL:https://calenda-formation.labocleo.org/477835
DESCRIPTION:Le numéro 49 d’EchoGéo\, à paraître en septembre 2019\, comprendra un dossier sur les corridors de développement\, coordonné par Nathalie Fau (université Paris 7 Denis Diderot\, Sorbonne Paris Cité - UMR CESSMA). Ce dossier a pour objectif d’interroger d… Más informaciones https://calenda-formation.labocleo.org/477835
LOCATION:
END:VEVENT
END:VCALENDAR
