BEGIN:VCALENDAR
VERSION:2.0
PRODID:-//https://calenda-formation.labocleo.org
X-WR-CALNAME:Calenda
X-WR-TIMEZONE:Europe/Paris
CALSCALE:GREGORIAN
X-WR-CALDESC:Le calendrier des lettres et sciences humaines et sociales
METHOD:PUBLISH
BEGIN:VEVENT
DTSTART;VALUE=DATE:20181008
DTEND;VALUE=DATE:20181009
UID:478237-20181008@calenda.revues.org
SUMMARY:Sciences\, société et communication
URL:https://calenda-formation.labocleo.org/478237
DESCRIPTION:Chaque année\, le séminaire Sciences\, société et communication réunit des chercheuses et des chercheurs en Sciences humaines et sociales (SHS) s’intéressant aux aspects sociaux et discursifs de la pratique de la communication scientifique\, à l’étude d… Weitere Informationen https://calenda-formation.labocleo.org/478237
LOCATION:Saint-Martin-d'Hères
END:VEVENT
BEGIN:VEVENT
DTSTART;VALUE=DATE:20181015
DTEND;VALUE=DATE:20181016
UID:478237-20181015@calenda.revues.org
SUMMARY:Sciences\, société et communication
URL:https://calenda-formation.labocleo.org/478237
DESCRIPTION:Chaque année\, le séminaire Sciences\, société et communication réunit des chercheuses et des chercheurs en Sciences humaines et sociales (SHS) s’intéressant aux aspects sociaux et discursifs de la pratique de la communication scientifique\, à l’étude d… Weitere Informationen https://calenda-formation.labocleo.org/478237
LOCATION:Saint-Martin-d'Hères
END:VEVENT
BEGIN:VEVENT
DTSTART;VALUE=DATE:20181105
DTEND;VALUE=DATE:20181106
UID:478237-20181105@calenda.revues.org
SUMMARY:Sciences\, société et communication
URL:https://calenda-formation.labocleo.org/478237
DESCRIPTION:Chaque année\, le séminaire Sciences\, société et communication réunit des chercheuses et des chercheurs en Sciences humaines et sociales (SHS) s’intéressant aux aspects sociaux et discursifs de la pratique de la communication scientifique\, à l’étude d… Weitere Informationen https://calenda-formation.labocleo.org/478237
LOCATION:Saint-Martin-d'Hères
END:VEVENT
BEGIN:VEVENT
DTSTART;VALUE=DATE:20181112
DTEND;VALUE=DATE:20181113
UID:478237-20181112@calenda.revues.org
SUMMARY:Sciences\, société et communication
URL:https://calenda-formation.labocleo.org/478237
DESCRIPTION:Chaque année\, le séminaire Sciences\, société et communication réunit des chercheuses et des chercheurs en Sciences humaines et sociales (SHS) s’intéressant aux aspects sociaux et discursifs de la pratique de la communication scientifique\, à l’étude d… Weitere Informationen https://calenda-formation.labocleo.org/478237
LOCATION:Saint-Martin-d'Hères
END:VEVENT
BEGIN:VEVENT
DTSTART;VALUE=DATE:20181119
DTEND;VALUE=DATE:20181120
UID:478237-20181119@calenda.revues.org
SUMMARY:Sciences\, société et communication
URL:https://calenda-formation.labocleo.org/478237
DESCRIPTION:Chaque année\, le séminaire Sciences\, société et communication réunit des chercheuses et des chercheurs en Sciences humaines et sociales (SHS) s’intéressant aux aspects sociaux et discursifs de la pratique de la communication scientifique\, à l’étude d… Weitere Informationen https://calenda-formation.labocleo.org/478237
LOCATION:Saint-Martin-d'Hères
END:VEVENT
BEGIN:VEVENT
DTSTART;VALUE=DATE:20181126
DTEND;VALUE=DATE:20181127
UID:478237-20181126@calenda.revues.org
SUMMARY:Sciences\, société et communication
URL:https://calenda-formation.labocleo.org/478237
DESCRIPTION:Chaque année\, le séminaire Sciences\, société et communication réunit des chercheuses et des chercheurs en Sciences humaines et sociales (SHS) s’intéressant aux aspects sociaux et discursifs de la pratique de la communication scientifique\, à l’étude d… Weitere Informationen https://calenda-formation.labocleo.org/478237
LOCATION:Saint-Martin-d'Hères
END:VEVENT
BEGIN:VEVENT
DTSTART;VALUE=DATE:20181203
DTEND;VALUE=DATE:20181204
UID:478237-20181203@calenda.revues.org
SUMMARY:Sciences\, société et communication
URL:https://calenda-formation.labocleo.org/478237
DESCRIPTION:Chaque année\, le séminaire Sciences\, société et communication réunit des chercheuses et des chercheurs en Sciences humaines et sociales (SHS) s’intéressant aux aspects sociaux et discursifs de la pratique de la communication scientifique\, à l’étude d… Weitere Informationen https://calenda-formation.labocleo.org/478237
LOCATION:Saint-Martin-d'Hères
END:VEVENT
BEGIN:VEVENT
DTSTART;VALUE=DATE:20181210
DTEND;VALUE=DATE:20181211
UID:478237-20181210@calenda.revues.org
SUMMARY:Sciences\, société et communication
URL:https://calenda-formation.labocleo.org/478237
DESCRIPTION:Chaque année\, le séminaire Sciences\, société et communication réunit des chercheuses et des chercheurs en Sciences humaines et sociales (SHS) s’intéressant aux aspects sociaux et discursifs de la pratique de la communication scientifique\, à l’étude d… Weitere Informationen https://calenda-formation.labocleo.org/478237
LOCATION:Saint-Martin-d'Hères
END:VEVENT
END:VCALENDAR
