BEGIN:VCALENDAR
VERSION:2.0
PRODID:-//https://calenda-formation.labocleo.org
X-WR-CALNAME:Calenda
X-WR-TIMEZONE:Europe/Paris
CALSCALE:GREGORIAN
X-WR-CALDESC:Le calendrier des lettres et sciences humaines et sociales
METHOD:PUBLISH
BEGIN:VEVENT
DTSTART;VALUE=DATE:20181215
DTEND;VALUE=DATE:20181216
UID:480452-20181215@calenda.revues.org
SUMMARY:Quand il est difficile de gouverner
URL:https://calenda-formation.labocleo.org/480452
DESCRIPTION:Qu'advient-il quand gouverner devient difficile ? Il est pertinent de se pencher sur les limites\, les oppositions et les dysfonctionnements en matière de gouvernement\, entendu dans un sens large. Quels peuvent être les responsables et les protagonist… Weitere Informationen https://calenda-formation.labocleo.org/480452
LOCATION:Nîmes\, Angers
END:VEVENT
END:VCALENDAR
