BEGIN:VCALENDAR
VERSION:2.0
PRODID:-//https://calenda-formation.labocleo.org
X-WR-CALNAME:Calenda
X-WR-TIMEZONE:Europe/Paris
CALSCALE:GREGORIAN
X-WR-CALDESC:Le calendrier des lettres et sciences humaines et sociales
METHOD:PUBLISH
BEGIN:VEVENT
DTSTART;VALUE=DATE:20180928
DTEND;VALUE=DATE:20180929
UID:481216-20180928@calenda.revues.org
SUMMARY:Travail et coopération
URL:https://calenda-formation.labocleo.org/481216
DESCRIPTION:Si les êtres humains sont le résultat d’un processus historique et non le produit d’un plan prédéfini\, l’importance des actes de coopération qui interviennent tout au long de cette évolution mérite une attention particulière. Dans ce parcours\, le tra… @plus_info https://calenda-formation.labocleo.org/481216
LOCATION:Porto
END:VEVENT
END:VCALENDAR
