BEGIN:VCALENDAR
VERSION:2.0
PRODID:-//https://calenda-formation.labocleo.org
X-WR-CALNAME:Calenda
X-WR-TIMEZONE:Europe/Paris
CALSCALE:GREGORIAN
X-WR-CALDESC:Le calendrier des lettres et sciences humaines et sociales
METHOD:PUBLISH
BEGIN:VEVENT
DTSTART;VALUE=DATE:20181017
DTEND;VALUE=DATE:20181018
UID:481457-20181017@calenda.revues.org
SUMMARY:La critique génétique comme processus (1968-2018)
URL:https://calenda-formation.labocleo.org/481457
DESCRIPTION:La critique génétique fêtera en 2018 le cinquantième anniversaire de l’événement qui rendit sa naissance possible. C’est en effet en 1968 que l’équipe Heine fut créée par le CNRS\, afin de permettre l’exploitation d’un important fonds de manuscrits du… Weitere Informationen https://calenda-formation.labocleo.org/481457
LOCATION:Paris
END:VEVENT
BEGIN:VEVENT
DTSTART;VALUE=DATE:20181018
DTEND;VALUE=DATE:20181019
UID:481457-20181018@calenda.revues.org
SUMMARY:La critique génétique comme processus (1968-2018)
URL:https://calenda-formation.labocleo.org/481457
DESCRIPTION:La critique génétique fêtera en 2018 le cinquantième anniversaire de l’événement qui rendit sa naissance possible. C’est en effet en 1968 que l’équipe Heine fut créée par le CNRS\, afin de permettre l’exploitation d’un important fonds de manuscrits du… Weitere Informationen https://calenda-formation.labocleo.org/481457
LOCATION:Paris
END:VEVENT
BEGIN:VEVENT
DTSTART;VALUE=DATE:20181019
DTEND;VALUE=DATE:20181020
UID:481457-20181019@calenda.revues.org
SUMMARY:La critique génétique comme processus (1968-2018)
URL:https://calenda-formation.labocleo.org/481457
DESCRIPTION:La critique génétique fêtera en 2018 le cinquantième anniversaire de l’événement qui rendit sa naissance possible. C’est en effet en 1968 que l’équipe Heine fut créée par le CNRS\, afin de permettre l’exploitation d’un important fonds de manuscrits du… Weitere Informationen https://calenda-formation.labocleo.org/481457
LOCATION:Paris
END:VEVENT
BEGIN:VEVENT
DTSTART;VALUE=DATE:20181020
DTEND;VALUE=DATE:20181021
UID:481457-20181020@calenda.revues.org
SUMMARY:La critique génétique comme processus (1968-2018)
URL:https://calenda-formation.labocleo.org/481457
DESCRIPTION:La critique génétique fêtera en 2018 le cinquantième anniversaire de l’événement qui rendit sa naissance possible. C’est en effet en 1968 que l’équipe Heine fut créée par le CNRS\, afin de permettre l’exploitation d’un important fonds de manuscrits du… Weitere Informationen https://calenda-formation.labocleo.org/481457
LOCATION:Paris
END:VEVENT
END:VCALENDAR
