BEGIN:VCALENDAR
VERSION:2.0
PRODID:-//https://calenda-formation.labocleo.org
X-WR-CALNAME:Calenda
X-WR-TIMEZONE:Europe/Paris
CALSCALE:GREGORIAN
X-WR-CALDESC:Le calendrier des lettres et sciences humaines et sociales
METHOD:PUBLISH
BEGIN:VEVENT
DTSTART;VALUE=DATE:20181107
DTEND;VALUE=DATE:20181108
UID:481953-20181107@calenda.revues.org
SUMMARY:Regard(s) sur les collections anatomiques et médicales
URL:https://calenda-formation.labocleo.org/481953
DESCRIPTION:Ce colloque vise à confronter les récentes recherches traitant des rapports entre art et sciences médicales dans les collections muséales. Si la représentation du corps et de ses maladies est liée à une importante tradition de mise en image de la pat… @plus_info https://calenda-formation.labocleo.org/481953
LOCATION:Paris
END:VEVENT
BEGIN:VEVENT
DTSTART;VALUE=DATE:20181108
DTEND;VALUE=DATE:20181109
UID:481953-20181108@calenda.revues.org
SUMMARY:Regard(s) sur les collections anatomiques et médicales
URL:https://calenda-formation.labocleo.org/481953
DESCRIPTION:Ce colloque vise à confronter les récentes recherches traitant des rapports entre art et sciences médicales dans les collections muséales. Si la représentation du corps et de ses maladies est liée à une importante tradition de mise en image de la pat… @plus_info https://calenda-formation.labocleo.org/481953
LOCATION:Paris
END:VEVENT
END:VCALENDAR
