BEGIN:VCALENDAR
VERSION:2.0
PRODID:-//https://calenda-formation.labocleo.org
X-WR-CALNAME:Calenda
X-WR-TIMEZONE:Europe/Paris
CALSCALE:GREGORIAN
X-WR-CALDESC:The calendar for arts, humanities and social sciences
METHOD:PUBLISH
BEGIN:VEVENT
DTSTART;VALUE=DATE:20181010
DTEND;VALUE=DATE:20181011
UID:483112-20181010@calenda.revues.org
SUMMARY:The Huma-Num digital humanities team presents its tools and services
URL:https://calenda-formation.labocleo.org/483112
DESCRIPTION:L’équipe de la très grande infrastructure de recherche (TGIR) Huma-Num vient présenter ses outils et services. Huma-Num est dédiée aux humanités numériques a pour mission de faciliter la transition numérique de la recherche en sciences humaines et so… @plus_info https://calenda-formation.labocleo.org/483112
LOCATION:
END:VEVENT
END:VCALENDAR
