BEGIN:VCALENDAR
VERSION:2.0
PRODID:-//https://calenda-formation.labocleo.org
X-WR-CALNAME:Calenda
X-WR-TIMEZONE:Europe/Paris
CALSCALE:GREGORIAN
X-WR-CALDESC:Le calendrier des lettres et sciences humaines et sociales
METHOD:PUBLISH
BEGIN:VEVENT
DTSTART;VALUE=DATE:20181122
DTEND;VALUE=DATE:20181123
UID:483279-20181122@calenda.revues.org
SUMMARY:Toute une (pré)histoire en Somme
URL:https://calenda-formation.labocleo.org/483279
DESCRIPTION:Ce colloque pluridisciplinaire se fixe pour objectif premier d’établir un état des connaissances et des questions actuelles dans les domaines des études préhistoriques et de l’histoire de la préhistoire\, à partir des travaux conduits et des découvert… Más informaciones https://calenda-formation.labocleo.org/483279
LOCATION:Abbeville
END:VEVENT
BEGIN:VEVENT
DTSTART;VALUE=DATE:20181123
DTEND;VALUE=DATE:20181124
UID:483279-20181123@calenda.revues.org
SUMMARY:Toute une (pré)histoire en Somme
URL:https://calenda-formation.labocleo.org/483279
DESCRIPTION:Ce colloque pluridisciplinaire se fixe pour objectif premier d’établir un état des connaissances et des questions actuelles dans les domaines des études préhistoriques et de l’histoire de la préhistoire\, à partir des travaux conduits et des découvert… Más informaciones https://calenda-formation.labocleo.org/483279
LOCATION:Abbeville
END:VEVENT
BEGIN:VEVENT
DTSTART;VALUE=DATE:20181124
DTEND;VALUE=DATE:20181125
UID:483279-20181124@calenda.revues.org
SUMMARY:Toute une (pré)histoire en Somme
URL:https://calenda-formation.labocleo.org/483279
DESCRIPTION:Ce colloque pluridisciplinaire se fixe pour objectif premier d’établir un état des connaissances et des questions actuelles dans les domaines des études préhistoriques et de l’histoire de la préhistoire\, à partir des travaux conduits et des découvert… Más informaciones https://calenda-formation.labocleo.org/483279
LOCATION:Abbeville
END:VEVENT
END:VCALENDAR
