BEGIN:VCALENDAR
VERSION:2.0
PRODID:-//https://calenda-formation.labocleo.org
X-WR-CALNAME:Calenda
X-WR-TIMEZONE:Europe/Paris
CALSCALE:GREGORIAN
X-WR-CALDESC:O calendário de letras e de ciências sociais e humanas
METHOD:PUBLISH
BEGIN:VEVENT
DTSTART;VALUE=DATE:20181122
DTEND;VALUE=DATE:20181123
UID:484894-20181122@calenda.revues.org
SUMMARY:De la voix des enquêtés à la voix du chercheur
URL:https://calenda-formation.labocleo.org/484894
DESCRIPTION:L’objectif de ce colloque est de réfléchir sur la construction de la légitimité du jeune chercheur tout au long de sa recherche. La notion de légitimité renvoie à ce qui est juste et équitable dans un cadre donné\, autrement dit\, est « légitime » ce q… @plus_info https://calenda-formation.labocleo.org/484894
LOCATION:Paris
END:VEVENT
BEGIN:VEVENT
DTSTART;VALUE=DATE:20181123
DTEND;VALUE=DATE:20181124
UID:484894-20181123@calenda.revues.org
SUMMARY:De la voix des enquêtés à la voix du chercheur
URL:https://calenda-formation.labocleo.org/484894
DESCRIPTION:L’objectif de ce colloque est de réfléchir sur la construction de la légitimité du jeune chercheur tout au long de sa recherche. La notion de légitimité renvoie à ce qui est juste et équitable dans un cadre donné\, autrement dit\, est « légitime » ce q… @plus_info https://calenda-formation.labocleo.org/484894
LOCATION:Paris
END:VEVENT
END:VCALENDAR
