BEGIN:VCALENDAR
VERSION:2.0
PRODID:-//https://calenda-formation.labocleo.org
X-WR-CALNAME:Calenda
X-WR-TIMEZONE:Europe/Paris
CALSCALE:GREGORIAN
X-WR-CALDESC:The calendar for arts, humanities and social sciences
METHOD:PUBLISH
BEGIN:VEVENT
DTSTART;VALUE=DATE:20181015
DTEND;VALUE=DATE:20181016
UID:486527-20181015@calenda.revues.org
SUMMARY:EHESS-Mucem post-doc contract (2018-2019)
URL:https://calenda-formation.labocleo.org/486527
DESCRIPTION:Dans le cadre d’un partenariat entre le Musée des civilisations de l’Europe et de la Méditerranée à Marseille (Mucem) et l’Ecole des hautes études en sciences sociales (EHESS)\, il est proposé le recrutement à compter du 1er novembre 2018 d’un cherche… @plus_info https://calenda-formation.labocleo.org/486527
LOCATION:
END:VEVENT
END:VCALENDAR
