BEGIN:VCALENDAR
VERSION:2.0
PRODID:-//https://calenda-formation.labocleo.org
X-WR-CALNAME:Calenda
X-WR-TIMEZONE:Europe/Paris
CALSCALE:GREGORIAN
X-WR-CALDESC:The calendar for arts, humanities and social sciences
METHOD:PUBLISH
BEGIN:VEVENT
DTSTART;VALUE=DATE:20181105
DTEND;VALUE=DATE:20181106
UID:489083-20181105@calenda.revues.org
SUMMARY:Young author's prize at the Population journal (2019)
URL:https://calenda-formation.labocleo.org/489083
DESCRIPTION:Les étudiant·e·s en thèse et les jeunes chercheur·e·stravaillant dans le domaine des études de populationsont invité·e·s à proposer un article original pour concourir au prix jeune auteur·e de la revue Population. … @plus_info https://calenda-formation.labocleo.org/489083
LOCATION:
END:VEVENT
END:VCALENDAR
