BEGIN:VCALENDAR
VERSION:2.0
PRODID:-//https://calenda-formation.labocleo.org
X-WR-CALNAME:Calenda
X-WR-TIMEZONE:Europe/Paris
CALSCALE:GREGORIAN
X-WR-CALDESC:Le calendrier des lettres et sciences humaines et sociales
METHOD:PUBLISH
BEGIN:VEVENT
DTSTART;VALUE=DATE:20181119
DTEND;VALUE=DATE:20181120
UID:490119-20181119@calenda.revues.org
SUMMARY:Swiss Mobility Conference 2018
URL:https://calenda-formation.labocleo.org/490119
DESCRIPTION:La Swiss Mobility Conference (SMC) propose un lieu de discussion et de débat pour les chercheur·e·s en sciences humaines et sociales qui travaillent sur les différentes formes de mobilité. … Más informaciones https://calenda-formation.labocleo.org/490119
LOCATION:Lausana
END:VEVENT
BEGIN:VEVENT
DTSTART;VALUE=DATE:20181120
DTEND;VALUE=DATE:20181121
UID:490119-20181120@calenda.revues.org
SUMMARY:Swiss Mobility Conference 2018
URL:https://calenda-formation.labocleo.org/490119
DESCRIPTION:La Swiss Mobility Conference (SMC) propose un lieu de discussion et de débat pour les chercheur·e·s en sciences humaines et sociales qui travaillent sur les différentes formes de mobilité. … Más informaciones https://calenda-formation.labocleo.org/490119
LOCATION:Lausana
END:VEVENT
END:VCALENDAR
