BEGIN:VCALENDAR
VERSION:2.0
PRODID:-//https://calenda-formation.labocleo.org
X-WR-CALNAME:Calenda
X-WR-TIMEZONE:Europe/Paris
CALSCALE:GREGORIAN
X-WR-CALDESC:The calendar for arts, humanities and social sciences
METHOD:PUBLISH
BEGIN:VEVENT
DTSTART;VALUE=DATE:20181012
DTEND;VALUE=DATE:20181013
UID:492790-20181012@calenda.revues.org
SUMMARY:Stigmata: living with and facing up
URL:https://calenda-formation.labocleo.org/492790
DESCRIPTION:Dans le prolongement des réflexions engagées lors de notre précédent évènement consacré aux processus d’altérisation\, nous souhaitons désormais placer la focale sur la manière dont les individus et groupes marqués du sceau d’un stigmate\, compris comm… @plus_info https://calenda-formation.labocleo.org/492790
LOCATION:Lyon
END:VEVENT
END:VCALENDAR
