BEGIN:VCALENDAR
VERSION:2.0
PRODID:-//https://calenda-formation.labocleo.org
X-WR-CALNAME:Calenda
X-WR-TIMEZONE:Europe/Paris
CALSCALE:GREGORIAN
X-WR-CALDESC:Le calendrier des lettres et sciences humaines et sociales
METHOD:PUBLISH
BEGIN:VEVENT
DTSTART;VALUE=DATE:20181122
DTEND;VALUE=DATE:20181123
UID:492866-20181122@calenda.revues.org
SUMMARY:Biologiser les faits sociaux
URL:https://calenda-formation.labocleo.org/492866
DESCRIPTION:La notion de biologisation du social renvoie à une forme croissante de justifications individuelles ou collectives des pratiques sociales : il s’agit de faire référence à une biologie réelle ou fantasmée pour légitimer les manières de dire\, de penser… @plus_info https://calenda-formation.labocleo.org/492866
LOCATION:Lyon
END:VEVENT
BEGIN:VEVENT
DTSTART;VALUE=DATE:20181123
DTEND;VALUE=DATE:20181124
UID:492866-20181123@calenda.revues.org
SUMMARY:Biologiser les faits sociaux
URL:https://calenda-formation.labocleo.org/492866
DESCRIPTION:La notion de biologisation du social renvoie à une forme croissante de justifications individuelles ou collectives des pratiques sociales : il s’agit de faire référence à une biologie réelle ou fantasmée pour légitimer les manières de dire\, de penser… @plus_info https://calenda-formation.labocleo.org/492866
LOCATION:Lyon
END:VEVENT
END:VCALENDAR
