BEGIN:VCALENDAR
VERSION:2.0
PRODID:-//https://calenda-formation.labocleo.org
X-WR-CALNAME:Calenda
X-WR-TIMEZONE:Europe/Paris
CALSCALE:GREGORIAN
X-WR-CALDESC:The calendar for arts, humanities and social sciences
METHOD:PUBLISH
BEGIN:VEVENT
DTSTART;VALUE=DATE:20181115
DTEND;VALUE=DATE:20181116
UID:493327-20181115@calenda.revues.org
SUMMARY:Thinking utopia today with Paul Ricoeur
URL:https://calenda-formation.labocleo.org/493327
DESCRIPTION:Il y a\, depuis peu\, en philosophie\, un certain renouveau de l’utopie\, pour ne pas dire une certaine mode\, si bien que l’on ne peut plus écrire\, comme le faisait encore récemment Miguel Abensour\, qu’elle a aujourd’hui mauvaise presse\, en étant considé… @plus_info https://calenda-formation.labocleo.org/493327
LOCATION:Lyon
END:VEVENT
END:VCALENDAR
