BEGIN:VCALENDAR
VERSION:2.0
PRODID:-//https://calenda-formation.labocleo.org
X-WR-CALNAME:Calenda
X-WR-TIMEZONE:Europe/Paris
CALSCALE:GREGORIAN
X-WR-CALDESC:Le calendrier des lettres et sciences humaines et sociales
METHOD:PUBLISH
BEGIN:VEVENT
DTSTART;VALUE=DATE:20181201
DTEND;VALUE=DATE:20181202
UID:497937-20181201@calenda.revues.org
SUMMARY:The epoch of space. State and new perspectives
URL:https://calenda-formation.labocleo.org/497937
DESCRIPTION:For centuries\, the study of time was one of the main academic interests in the field of Humanities. However\, in the second half of the 20th century\, most scholars and philosophers shifted their focus to the question of space. The interest in studying… Weitere Informationen https://calenda-formation.labocleo.org/497937
LOCATION:Santiago de Compostela
END:VEVENT
END:VCALENDAR
