BEGIN:VCALENDAR
VERSION:2.0
PRODID:-//https://calenda-formation.labocleo.org
X-WR-CALNAME:Calenda
X-WR-TIMEZONE:Europe/Paris
CALSCALE:GREGORIAN
X-WR-CALDESC:Le calendrier des lettres et sciences humaines et sociales
METHOD:PUBLISH
BEGIN:VEVENT
DTSTART;VALUE=DATE:20181130
DTEND;VALUE=DATE:20181201
UID:498926-20181130@calenda.revues.org
SUMMARY:El pasado en el presente. Historia y memorias\, una problemática esencial para las sociedades contemporáneas  (Europa-América)
URL:https://calenda-formation.labocleo.org/498926
DESCRIPTION:Este número pretende abrir un espacio interdisciplinar de reflexión sobre la forma en la que la memoria\, o más bien las memorias\, de destacados acontecimientos históricos del siglo XX y de sus consecuencias\, orienta el devenir de las sociedades conte… Más informaciones https://calenda-formation.labocleo.org/498926
LOCATION:
END:VEVENT
END:VCALENDAR
