BEGIN:VCALENDAR
VERSION:2.0
PRODID:-//https://calenda-formation.labocleo.org
X-WR-CALNAME:Calenda
X-WR-TIMEZONE:Europe/Paris
CALSCALE:GREGORIAN
X-WR-CALDESC:Le calendrier des lettres et sciences humaines et sociales
METHOD:PUBLISH
BEGIN:VEVENT
DTSTART;VALUE=DATE:20181020
DTEND;VALUE=DATE:20181021
UID:499642-20181020@calenda.revues.org
SUMMARY:Sortir de la guerre et transmettre la mémoire
URL:https://calenda-formation.labocleo.org/499642
DESCRIPTION:Cette journée d'étude a pour objet de décrire le cheminement de la sortie de guerre\, le retour à la vie civile\, les décorations\, le deuil et à la transmission mémorielle. Les communications sont assurées par des enseignants-chercheurs\, un écrivain\, u… Weitere Informationen https://calenda-formation.labocleo.org/499642
LOCATION:Chauny
END:VEVENT
END:VCALENDAR
